{
 "serviceDescription": "Maui demo layer maui-hillshade",
 "name": "maui-hillshade",
 "description": "Maui demo layer maui-hillshade",
 "extent": {
  "xmin": -17521687.85086126,
  "ymin": 2326413.5040392564,
  "xmax": -17360267.85086126,
  "ymax": 2421713.5040392564,
  "spatialReference": {
   "wkid": 3857,
   "latestWkid": 3857
  }
 },
 "fullExtent": {
  "xmin": -17521687.85086126,
  "ymin": 2326413.5040392564,
  "xmax": -17360267.85086126,
  "ymax": 2421713.5040392564,
  "spatialReference": {
   "wkid": 3857,
   "latestWkid": 3857
  }
 },
 "initialExtent": {
  "xmin": -17521687.85086126,
  "ymin": 2326413.5040392564,
  "xmax": -17360267.85086126,
  "ymax": 2421713.5040392564,
  "spatialReference": {
   "wkid": 3857,
   "latestWkid": 3857
  }
 },
 "spatialReference": {
  "wkid": 3857,
  "latestWkid": 3857
 },
 "pixelSizeX": 20,
 "pixelSizeY": 20,
 "bandCount": 1,
 "pixelType": "U8",
 "minPixelSize": 0.1,
 "maxPixelSize": 1000,
 "copyrightText": "Maui demo layer maui-hillshade",
 "serviceDataType": "esriImageServiceDataTypeGeneric",
 "minValues": [
  1
 ],
 "maxValues": [
  255
 ],
 "meanValues": [
  175.29500103098368
 ],
 "stdvValues": [
  33.346460728117684
 ],
 "fields": [
  {
   "name": "OBJECTID",
   "type": "esriFieldTypeOID",
   "alias": "OBJECTID",
   "editable": false,
   "nullable": false
  },
  {
   "name": "Name",
   "type": "esriFieldTypeString",
   "alias": "Name",
   "editable": false,
   "nullable": true
  },
  {
   "name": "MinPS",
   "type": "esriFieldTypeDouble",
   "alias": "MinPS",
   "editable": false,
   "nullable": false
  },
  {
   "name": "MaxPS",
   "type": "esriFieldTypeDouble",
   "alias": "MaxPS",
   "editable": false,
   "nullable": false
  },
  {
   "name": "LowPS",
   "type": "esriFieldTypeDouble",
   "alias": "LowPS",
   "editable": false,
   "nullable": false
  },
  {
   "name": "HighPS",
   "type": "esriFieldTypeDouble",
   "alias": "HighPS",
   "editable": false,
   "nullable": false
  },
  {
   "name": "CenterX",
   "type": "esriFieldTypeDouble",
   "alias": "CenterX",
   "editable": false,
   "nullable": false
  },
  {
   "name": "CenterY",
   "type": "esriFieldTypeDouble",
   "alias": "CenterY",
   "editable": false,
   "nullable": false
  },
  {
   "name": "ZOrder",
   "type": "esriFieldTypeInteger",
   "alias": "ZOrder",
   "editable": false,
   "nullable": false
  },
  {
   "name": "Shape_Length",
   "type": "esriFieldTypeDouble",
   "alias": "Shape_Length",
   "editable": false,
   "nullable": false
  },
  {
   "name": "Shape_Area",
   "type": "esriFieldTypeDouble",
   "alias": "Shape_Area",
   "editable": false,
   "nullable": false
  },
  {
   "name": "BandCount",
   "type": "esriFieldTypeInteger",
   "alias": "BandCount",
   "editable": false,
   "nullable": false
  },
  {
   "name": "PixelType",
   "type": "esriFieldTypeString",
   "alias": "PixelType",
   "editable": false,
   "nullable": true
  },
  {
   "name": "AcquisitionDate",
   "type": "esriFieldTypeDate",
   "alias": "AcquisitionDate",
   "editable": false,
   "nullable": true
  },
  {
   "name": "CreatedAt",
   "type": "esriFieldTypeDate",
   "alias": "CreatedAt",
   "editable": false,
   "nullable": false
  }
 ],
 "capabilities": "Catalog,Image,Metadata,Mensuration,Pixels,Statistics",
 "defaultMosaicMethod": "esriMosaicNorthwest",
 "allowedMosaicMethods": "esriMosaicNorthwest,esriMosaicCenter",
 "mosaicOperator": "First",
 "defaultCompressionQuality": 75,
 "defaultResamplingMethod": "Bilinear",
 "maxImageHeight": 4096,
 "maxImageWidth": 4096,
 "maxRecordCount": 1000,
 "maxDownloadImageCount": 20,
 "maxMosaicImageCount": 2000,
 "singleFusedMapCache": false,
 "allowRasterFunction": false,
 "mensurationCapabilities": "Basic",
 "hasHistograms": true,
 "hasColormap": false,
 "hasRasterAttributeTable": false,
 "hasMultidimensions": false
}
