<?xml version="1.0" encoding="UTF-8"?>
<Capabilities xmlns="http://www.opengis.net/wmts/1.0"
  xmlns:ows="http://www.opengis.net/ows/1.1"
  xmlns:xlink="http://www.w3.org/1999/xlink"
  xmlns:xsi="http://www.w3.org/2001/XMLSchema-instance"
  version="1.0.0" updateSequence="20260223" xsi:schemaLocation="http://www.opengis.net/wmts/1.0 http://schemas.opengis.net/wmts/1.0/wmtsGetCapabilities_response.xsd">
  <ows:ServiceIdentification>
    <ows:Title>maui-zoning</ows:Title>
    <ows:Abstract>Honua service &apos;maui-zoning&apos;</ows:Abstract>
    <ows:ServiceType>OGC WMTS</ows:ServiceType>
    <ows:ServiceTypeVersion>1.0.0</ows:ServiceTypeVersion>
  </ows:ServiceIdentification>
  <ows:ServiceProvider>
    <ows:ProviderName>Honua Server</ows:ProviderName>
    <ows:ProviderSite xlink:href="https://demo.honua.io/" />
    <ows:ServiceContact>
      <ows:IndividualName>Honua Support</ows:IndividualName>
      <ows:PositionName>Support Engineer</ows:PositionName>
    </ows:ServiceContact>
  </ows:ServiceProvider>
  <ows:OperationsMetadata>
    <ows:Operation name="GetCapabilities">
      <ows:DCP>
        <ows:HTTP>
          <ows:Get xlink:href="https://demo.honua.io/rest/services/maui-zoning/MapServer/WMTS?">
            <ows:Constraint name="GetEncoding">
              <ows:AllowedValues><ows:Value>KVP</ows:Value></ows:AllowedValues>
            </ows:Constraint>
          </ows:Get>
          <ows:Get xlink:href="https://demo.honua.io/rest/services/maui-zoning/MapServer/WMTS/">
            <ows:Constraint name="GetEncoding">
              <ows:AllowedValues><ows:Value>RESTful</ows:Value></ows:AllowedValues>
            </ows:Constraint>
          </ows:Get>
        </ows:HTTP>
      </ows:DCP>
      <ows:Parameter name="AcceptVersions">
        <ows:AllowedValues><ows:Value>1.0.0</ows:Value></ows:AllowedValues>
      </ows:Parameter>
      <ows:Parameter name="Sections">
        <ows:AllowedValues>
          <ows:Value>All</ows:Value>
          <ows:Value>ServiceIdentification</ows:Value>
          <ows:Value>ServiceProvider</ows:Value>
          <ows:Value>OperationsMetadata</ows:Value>
          <ows:Value>Contents</ows:Value>
          <ows:Value>Themes</ows:Value>
        </ows:AllowedValues>
      </ows:Parameter>
      <ows:Parameter name="AcceptFormats">
        <ows:AllowedValues>
          <ows:Value>application/xml</ows:Value>
          <ows:Value>text/xml</ows:Value>
        </ows:AllowedValues>
      </ows:Parameter>
      <ows:Parameter name="UpdateSequence">
        <ows:AnyValue/>
      </ows:Parameter>
    </ows:Operation>
    <ows:Operation name="GetTile">
      <ows:DCP>
        <ows:HTTP>
          <ows:Get xlink:href="https://demo.honua.io/rest/services/maui-zoning/MapServer/WMTS?">
            <ows:Constraint name="GetEncoding">
              <ows:AllowedValues><ows:Value>KVP</ows:Value></ows:AllowedValues>
            </ows:Constraint>
          </ows:Get>
          <ows:Get xlink:href="https://demo.honua.io/rest/services/maui-zoning/MapServer/WMTS/">
            <ows:Constraint name="GetEncoding">
              <ows:AllowedValues><ows:Value>RESTful</ows:Value></ows:AllowedValues>
            </ows:Constraint>
          </ows:Get>
        </ows:HTTP>
      </ows:DCP>
    </ows:Operation>
    <ows:Operation name="GetFeatureInfo">
      <ows:DCP>
        <ows:HTTP>
          <ows:Get xlink:href="https://demo.honua.io/rest/services/maui-zoning/MapServer/WMTS?">
            <ows:Constraint name="GetEncoding">
              <ows:AllowedValues><ows:Value>KVP</ows:Value></ows:AllowedValues>
            </ows:Constraint>
          </ows:Get>
          <ows:Get xlink:href="https://demo.honua.io/rest/services/maui-zoning/MapServer/WMTS/">
            <ows:Constraint name="GetEncoding">
              <ows:AllowedValues><ows:Value>RESTful</ows:Value></ows:AllowedValues>
            </ows:Constraint>
          </ows:Get>
        </ows:HTTP>
      </ows:DCP>
    </ows:Operation>
  </ows:OperationsMetadata>
  <Contents>
    <Layer>
      <ows:Title>maui-zoning</ows:Title>
      <ows:Identifier>2</ows:Identifier>
      <ows:WGS84BoundingBox>
        <ows:LowerCorner>-157.310969139293 20.5745729232637</ows:LowerCorner>
        <ows:UpperCorner>-155.978950857522 21.2244521196822</ows:UpperCorner>
      </ows:WGS84BoundingBox>
      <Style isDefault="true">
        <ows:Identifier>default</ows:Identifier>
        <LegendURL format="image/png" xlink:href="https://demo.honua.io/rest/services/maui-zoning/MapServer/WMTS?SERVICE=WMTS&amp;REQUEST=GetTile&amp;VERSION=1.0.0&amp;LAYER=2&amp;STYLE=default&amp;FORMAT=image/png&amp;TILEMATRIXSET=WebMercatorQuad&amp;TILEMATRIX=0&amp;TILEROW=0&amp;TILECOL=0" width="256" height="256" />
      </Style>
      <Format>image/png</Format>
      <InfoFormat>text/plain</InfoFormat>
      <InfoFormat>application/json</InfoFormat>
      <TileMatrixSetLink>
        <TileMatrixSet>WebMercatorQuad</TileMatrixSet>
        <TileMatrixSetLimits>
          <TileMatrixLimits>
            <TileMatrix>0</TileMatrix>
            <MinTileRow>0</MinTileRow>
            <MaxTileRow>0</MaxTileRow>
            <MinTileCol>0</MinTileCol>
            <MaxTileCol>0</MaxTileCol>
          </TileMatrixLimits>
          <TileMatrixLimits>
            <TileMatrix>1</TileMatrix>
            <MinTileRow>0</MinTileRow>
            <MaxTileRow>1</MaxTileRow>
            <MinTileCol>0</MinTileCol>
            <MaxTileCol>1</MaxTileCol>
          </TileMatrixLimits>
          <TileMatrixLimits>
            <TileMatrix>2</TileMatrix>
            <MinTileRow>0</MinTileRow>
            <MaxTileRow>3</MaxTileRow>
            <MinTileCol>0</MinTileCol>
            <MaxTileCol>3</MaxTileCol>
          </TileMatrixLimits>
          <TileMatrixLimits>
            <TileMatrix>3</TileMatrix>
            <MinTileRow>0</MinTileRow>
            <MaxTileRow>7</MaxTileRow>
            <MinTileCol>0</MinTileCol>
            <MaxTileCol>7</MaxTileCol>
          </TileMatrixLimits>
          <TileMatrixLimits>
            <TileMatrix>4</TileMatrix>
            <MinTileRow>0</MinTileRow>
            <MaxTileRow>15</MaxTileRow>
            <MinTileCol>0</MinTileCol>
            <MaxTileCol>15</MaxTileCol>
          </TileMatrixLimits>
          <TileMatrixLimits>
            <TileMatrix>5</TileMatrix>
            <MinTileRow>0</MinTileRow>
            <MaxTileRow>31</MaxTileRow>
            <MinTileCol>0</MinTileCol>
            <MaxTileCol>31</MaxTileCol>
          </TileMatrixLimits>
          <TileMatrixLimits>
            <TileMatrix>6</TileMatrix>
            <MinTileRow>0</MinTileRow>
            <MaxTileRow>63</MaxTileRow>
            <MinTileCol>0</MinTileCol>
            <MaxTileCol>63</MaxTileCol>
          </TileMatrixLimits>
          <TileMatrixLimits>
            <TileMatrix>7</TileMatrix>
            <MinTileRow>0</MinTileRow>
            <MaxTileRow>127</MaxTileRow>
            <MinTileCol>0</MinTileCol>
            <MaxTileCol>127</MaxTileCol>
          </TileMatrixLimits>
          <TileMatrixLimits>
            <TileMatrix>8</TileMatrix>
            <MinTileRow>0</MinTileRow>
            <MaxTileRow>255</MaxTileRow>
            <MinTileCol>0</MinTileCol>
            <MaxTileCol>255</MaxTileCol>
          </TileMatrixLimits>
          <TileMatrixLimits>
            <TileMatrix>9</TileMatrix>
            <MinTileRow>0</MinTileRow>
            <MaxTileRow>511</MaxTileRow>
            <MinTileCol>0</MinTileCol>
            <MaxTileCol>511</MaxTileCol>
          </TileMatrixLimits>
          <TileMatrixLimits>
            <TileMatrix>10</TileMatrix>
            <MinTileRow>0</MinTileRow>
            <MaxTileRow>1023</MaxTileRow>
            <MinTileCol>0</MinTileCol>
            <MaxTileCol>1023</MaxTileCol>
          </TileMatrixLimits>
          <TileMatrixLimits>
            <TileMatrix>11</TileMatrix>
            <MinTileRow>0</MinTileRow>
            <MaxTileRow>2047</MaxTileRow>
            <MinTileCol>0</MinTileCol>
            <MaxTileCol>2047</MaxTileCol>
          </TileMatrixLimits>
          <TileMatrixLimits>
            <TileMatrix>12</TileMatrix>
            <MinTileRow>0</MinTileRow>
            <MaxTileRow>4095</MaxTileRow>
            <MinTileCol>0</MinTileCol>
            <MaxTileCol>4095</MaxTileCol>
          </TileMatrixLimits>
          <TileMatrixLimits>
            <TileMatrix>13</TileMatrix>
            <MinTileRow>0</MinTileRow>
            <MaxTileRow>8191</MaxTileRow>
            <MinTileCol>0</MinTileCol>
            <MaxTileCol>8191</MaxTileCol>
          </TileMatrixLimits>
          <TileMatrixLimits>
            <TileMatrix>14</TileMatrix>
            <MinTileRow>0</MinTileRow>
            <MaxTileRow>16383</MaxTileRow>
            <MinTileCol>0</MinTileCol>
            <MaxTileCol>16383</MaxTileCol>
          </TileMatrixLimits>
          <TileMatrixLimits>
            <TileMatrix>15</TileMatrix>
            <MinTileRow>0</MinTileRow>
            <MaxTileRow>32767</MaxTileRow>
            <MinTileCol>0</MinTileCol>
            <MaxTileCol>32767</MaxTileCol>
          </TileMatrixLimits>
          <TileMatrixLimits>
            <TileMatrix>16</TileMatrix>
            <MinTileRow>0</MinTileRow>
            <MaxTileRow>65535</MaxTileRow>
            <MinTileCol>0</MinTileCol>
            <MaxTileCol>65535</MaxTileCol>
          </TileMatrixLimits>
          <TileMatrixLimits>
            <TileMatrix>17</TileMatrix>
            <MinTileRow>0</MinTileRow>
            <MaxTileRow>131071</MaxTileRow>
            <MinTileCol>0</MinTileCol>
            <MaxTileCol>131071</MaxTileCol>
          </TileMatrixLimits>
          <TileMatrixLimits>
            <TileMatrix>18</TileMatrix>
            <MinTileRow>0</MinTileRow>
            <MaxTileRow>262143</MaxTileRow>
            <MinTileCol>0</MinTileCol>
            <MaxTileCol>262143</MaxTileCol>
          </TileMatrixLimits>
        </TileMatrixSetLimits>
      </TileMatrixSetLink>
      <TileMatrixSetLink>
        <TileMatrixSet>WorldCRS84Quad</TileMatrixSet>
        <TileMatrixSetLimits>
          <TileMatrixLimits>
            <TileMatrix>0</TileMatrix>
            <MinTileRow>0</MinTileRow>
            <MaxTileRow>0</MaxTileRow>
            <MinTileCol>0</MinTileCol>
            <MaxTileCol>1</MaxTileCol>
          </TileMatrixLimits>
          <TileMatrixLimits>
            <TileMatrix>1</TileMatrix>
            <MinTileRow>0</MinTileRow>
            <MaxTileRow>1</MaxTileRow>
            <MinTileCol>0</MinTileCol>
            <MaxTileCol>3</MaxTileCol>
          </TileMatrixLimits>
          <TileMatrixLimits>
            <TileMatrix>2</TileMatrix>
            <MinTileRow>0</MinTileRow>
            <MaxTileRow>3</MaxTileRow>
            <MinTileCol>0</MinTileCol>
            <MaxTileCol>7</MaxTileCol>
          </TileMatrixLimits>
          <TileMatrixLimits>
            <TileMatrix>3</TileMatrix>
            <MinTileRow>0</MinTileRow>
            <MaxTileRow>7</MaxTileRow>
            <MinTileCol>0</MinTileCol>
            <MaxTileCol>15</MaxTileCol>
          </TileMatrixLimits>
          <TileMatrixLimits>
            <TileMatrix>4</TileMatrix>
            <MinTileRow>0</MinTileRow>
            <MaxTileRow>15</MaxTileRow>
            <MinTileCol>0</MinTileCol>
            <MaxTileCol>31</MaxTileCol>
          </TileMatrixLimits>
          <TileMatrixLimits>
            <TileMatrix>5</TileMatrix>
            <MinTileRow>0</MinTileRow>
            <MaxTileRow>31</MaxTileRow>
            <MinTileCol>0</MinTileCol>
            <MaxTileCol>63</MaxTileCol>
          </TileMatrixLimits>
          <TileMatrixLimits>
            <TileMatrix>6</TileMatrix>
            <MinTileRow>0</MinTileRow>
            <MaxTileRow>63</MaxTileRow>
            <MinTileCol>0</MinTileCol>
            <MaxTileCol>127</MaxTileCol>
          </TileMatrixLimits>
          <TileMatrixLimits>
            <TileMatrix>7</TileMatrix>
            <MinTileRow>0</MinTileRow>
            <MaxTileRow>127</MaxTileRow>
            <MinTileCol>0</MinTileCol>
            <MaxTileCol>255</MaxTileCol>
          </TileMatrixLimits>
          <TileMatrixLimits>
            <TileMatrix>8</TileMatrix>
            <MinTileRow>0</MinTileRow>
            <MaxTileRow>255</MaxTileRow>
            <MinTileCol>0</MinTileCol>
            <MaxTileCol>511</MaxTileCol>
          </TileMatrixLimits>
          <TileMatrixLimits>
            <TileMatrix>9</TileMatrix>
            <MinTileRow>0</MinTileRow>
            <MaxTileRow>511</MaxTileRow>
            <MinTileCol>0</MinTileCol>
            <MaxTileCol>1023</MaxTileCol>
          </TileMatrixLimits>
          <TileMatrixLimits>
            <TileMatrix>10</TileMatrix>
            <MinTileRow>0</MinTileRow>
            <MaxTileRow>1023</MaxTileRow>
            <MinTileCol>0</MinTileCol>
            <MaxTileCol>2047</MaxTileCol>
          </TileMatrixLimits>
          <TileMatrixLimits>
            <TileMatrix>11</TileMatrix>
            <MinTileRow>0</MinTileRow>
            <MaxTileRow>2047</MaxTileRow>
            <MinTileCol>0</MinTileCol>
            <MaxTileCol>4095</MaxTileCol>
          </TileMatrixLimits>
          <TileMatrixLimits>
            <TileMatrix>12</TileMatrix>
            <MinTileRow>0</MinTileRow>
            <MaxTileRow>4095</MaxTileRow>
            <MinTileCol>0</MinTileCol>
            <MaxTileCol>8191</MaxTileCol>
          </TileMatrixLimits>
          <TileMatrixLimits>
            <TileMatrix>13</TileMatrix>
            <MinTileRow>0</MinTileRow>
            <MaxTileRow>8191</MaxTileRow>
            <MinTileCol>0</MinTileCol>
            <MaxTileCol>16383</MaxTileCol>
          </TileMatrixLimits>
          <TileMatrixLimits>
            <TileMatrix>14</TileMatrix>
            <MinTileRow>0</MinTileRow>
            <MaxTileRow>16383</MaxTileRow>
            <MinTileCol>0</MinTileCol>
            <MaxTileCol>32767</MaxTileCol>
          </TileMatrixLimits>
          <TileMatrixLimits>
            <TileMatrix>15</TileMatrix>
            <MinTileRow>0</MinTileRow>
            <MaxTileRow>32767</MaxTileRow>
            <MinTileCol>0</MinTileCol>
            <MaxTileCol>65535</MaxTileCol>
          </TileMatrixLimits>
          <TileMatrixLimits>
            <TileMatrix>16</TileMatrix>
            <MinTileRow>0</MinTileRow>
            <MaxTileRow>65535</MaxTileRow>
            <MinTileCol>0</MinTileCol>
            <MaxTileCol>131071</MaxTileCol>
          </TileMatrixLimits>
          <TileMatrixLimits>
            <TileMatrix>17</TileMatrix>
            <MinTileRow>0</MinTileRow>
            <MaxTileRow>131071</MaxTileRow>
            <MinTileCol>0</MinTileCol>
            <MaxTileCol>262143</MaxTileCol>
          </TileMatrixLimits>
          <TileMatrixLimits>
            <TileMatrix>18</TileMatrix>
            <MinTileRow>0</MinTileRow>
            <MaxTileRow>262143</MaxTileRow>
            <MinTileCol>0</MinTileCol>
            <MaxTileCol>524287</MaxTileCol>
          </TileMatrixLimits>
        </TileMatrixSetLimits>
      </TileMatrixSetLink>
      <ResourceURL format="image/png" resourceType="tile" template="https://demo.honua.io/rest/services/maui-zoning/MapServer/WMTS/2/{style}/{TileMatrixSet}/{TileMatrix}/{TileRow}/{TileCol}.png" />
      <ResourceURL format="text/plain" resourceType="FeatureInfo" template="https://demo.honua.io/rest/services/maui-zoning/MapServer/WMTS/2/{style}/{TileMatrixSet}/{TileMatrix}/{TileRow}/{TileCol}/{J}/{I}.txt" />
      <ResourceURL format="application/json" resourceType="FeatureInfo" template="https://demo.honua.io/rest/services/maui-zoning/MapServer/WMTS/2/{style}/{TileMatrixSet}/{TileMatrix}/{TileRow}/{TileCol}/{J}/{I}.json" />
    </Layer>
    <TileMatrixSet>
      <ows:Identifier>WebMercatorQuad</ows:Identifier>
      <ows:SupportedCRS>urn:ogc:def:crs:EPSG:6.18:3:3857</ows:SupportedCRS>
      <WellKnownScaleSet>urn:ogc:def:wkss:OGC:1.0:GoogleMapsCompatible</WellKnownScaleSet>
      <TileMatrix>
        <ows:Identifier>0</ows:Identifier>
        <ScaleDenominator>559082264.028718</ScaleDenominator>
        <TopLeftCorner>-20037508.342789244 20037508.342789244</TopLeftCorner>
        <TileWidth>256</TileWidth>
        <TileHeight>256</TileHeight>
        <MatrixWidth>1</MatrixWidth>
        <MatrixHeight>1</MatrixHeight>
      </TileMatrix>
      <TileMatrix>
        <ows:Identifier>1</ows:Identifier>
        <ScaleDenominator>279541132.014359</ScaleDenominator>
        <TopLeftCorner>-20037508.342789244 20037508.342789244</TopLeftCorner>
        <TileWidth>256</TileWidth>
        <TileHeight>256</TileHeight>
        <MatrixWidth>2</MatrixWidth>
        <MatrixHeight>2</MatrixHeight>
      </TileMatrix>
      <TileMatrix>
        <ows:Identifier>2</ows:Identifier>
        <ScaleDenominator>139770566.007179</ScaleDenominator>
        <TopLeftCorner>-20037508.342789244 20037508.342789244</TopLeftCorner>
        <TileWidth>256</TileWidth>
        <TileHeight>256</TileHeight>
        <MatrixWidth>4</MatrixWidth>
        <MatrixHeight>4</MatrixHeight>
      </TileMatrix>
      <TileMatrix>
        <ows:Identifier>3</ows:Identifier>
        <ScaleDenominator>69885283.0035897</ScaleDenominator>
        <TopLeftCorner>-20037508.342789244 20037508.342789244</TopLeftCorner>
        <TileWidth>256</TileWidth>
        <TileHeight>256</TileHeight>
        <MatrixWidth>8</MatrixWidth>
        <MatrixHeight>8</MatrixHeight>
      </TileMatrix>
      <TileMatrix>
        <ows:Identifier>4</ows:Identifier>
        <ScaleDenominator>34942641.5017949</ScaleDenominator>
        <TopLeftCorner>-20037508.342789244 20037508.342789244</TopLeftCorner>
        <TileWidth>256</TileWidth>
        <TileHeight>256</TileHeight>
        <MatrixWidth>16</MatrixWidth>
        <MatrixHeight>16</MatrixHeight>
      </TileMatrix>
      <TileMatrix>
        <ows:Identifier>5</ows:Identifier>
        <ScaleDenominator>17471320.7508974</ScaleDenominator>
        <TopLeftCorner>-20037508.342789244 20037508.342789244</TopLeftCorner>
        <TileWidth>256</TileWidth>
        <TileHeight>256</TileHeight>
        <MatrixWidth>32</MatrixWidth>
        <MatrixHeight>32</MatrixHeight>
      </TileMatrix>
      <TileMatrix>
        <ows:Identifier>6</ows:Identifier>
        <ScaleDenominator>8735660.37544871</ScaleDenominator>
        <TopLeftCorner>-20037508.342789244 20037508.342789244</TopLeftCorner>
        <TileWidth>256</TileWidth>
        <TileHeight>256</TileHeight>
        <MatrixWidth>64</MatrixWidth>
        <MatrixHeight>64</MatrixHeight>
      </TileMatrix>
      <TileMatrix>
        <ows:Identifier>7</ows:Identifier>
        <ScaleDenominator>4367830.18772436</ScaleDenominator>
        <TopLeftCorner>-20037508.342789244 20037508.342789244</TopLeftCorner>
        <TileWidth>256</TileWidth>
        <TileHeight>256</TileHeight>
        <MatrixWidth>128</MatrixWidth>
        <MatrixHeight>128</MatrixHeight>
      </TileMatrix>
      <TileMatrix>
        <ows:Identifier>8</ows:Identifier>
        <ScaleDenominator>2183915.09386218</ScaleDenominator>
        <TopLeftCorner>-20037508.342789244 20037508.342789244</TopLeftCorner>
        <TileWidth>256</TileWidth>
        <TileHeight>256</TileHeight>
        <MatrixWidth>256</MatrixWidth>
        <MatrixHeight>256</MatrixHeight>
      </TileMatrix>
      <TileMatrix>
        <ows:Identifier>9</ows:Identifier>
        <ScaleDenominator>1091957.54693109</ScaleDenominator>
        <TopLeftCorner>-20037508.342789244 20037508.342789244</TopLeftCorner>
        <TileWidth>256</TileWidth>
        <TileHeight>256</TileHeight>
        <MatrixWidth>512</MatrixWidth>
        <MatrixHeight>512</MatrixHeight>
      </TileMatrix>
      <TileMatrix>
        <ows:Identifier>10</ows:Identifier>
        <ScaleDenominator>545978.773465545</ScaleDenominator>
        <TopLeftCorner>-20037508.342789244 20037508.342789244</TopLeftCorner>
        <TileWidth>256</TileWidth>
        <TileHeight>256</TileHeight>
        <MatrixWidth>1024</MatrixWidth>
        <MatrixHeight>1024</MatrixHeight>
      </TileMatrix>
      <TileMatrix>
        <ows:Identifier>11</ows:Identifier>
        <ScaleDenominator>272989.386732772</ScaleDenominator>
        <TopLeftCorner>-20037508.342789244 20037508.342789244</TopLeftCorner>
        <TileWidth>256</TileWidth>
        <TileHeight>256</TileHeight>
        <MatrixWidth>2048</MatrixWidth>
        <MatrixHeight>2048</MatrixHeight>
      </TileMatrix>
      <TileMatrix>
        <ows:Identifier>12</ows:Identifier>
        <ScaleDenominator>136494.693366386</ScaleDenominator>
        <TopLeftCorner>-20037508.342789244 20037508.342789244</TopLeftCorner>
        <TileWidth>256</TileWidth>
        <TileHeight>256</TileHeight>
        <MatrixWidth>4096</MatrixWidth>
        <MatrixHeight>4096</MatrixHeight>
      </TileMatrix>
      <TileMatrix>
        <ows:Identifier>13</ows:Identifier>
        <ScaleDenominator>68247.3466831931</ScaleDenominator>
        <TopLeftCorner>-20037508.342789244 20037508.342789244</TopLeftCorner>
        <TileWidth>256</TileWidth>
        <TileHeight>256</TileHeight>
        <MatrixWidth>8192</MatrixWidth>
        <MatrixHeight>8192</MatrixHeight>
      </TileMatrix>
      <TileMatrix>
        <ows:Identifier>14</ows:Identifier>
        <ScaleDenominator>34123.6733415965</ScaleDenominator>
        <TopLeftCorner>-20037508.342789244 20037508.342789244</TopLeftCorner>
        <TileWidth>256</TileWidth>
        <TileHeight>256</TileHeight>
        <MatrixWidth>16384</MatrixWidth>
        <MatrixHeight>16384</MatrixHeight>
      </TileMatrix>
      <TileMatrix>
        <ows:Identifier>15</ows:Identifier>
        <ScaleDenominator>17061.8366707983</ScaleDenominator>
        <TopLeftCorner>-20037508.342789244 20037508.342789244</TopLeftCorner>
        <TileWidth>256</TileWidth>
        <TileHeight>256</TileHeight>
        <MatrixWidth>32768</MatrixWidth>
        <MatrixHeight>32768</MatrixHeight>
      </TileMatrix>
      <TileMatrix>
        <ows:Identifier>16</ows:Identifier>
        <ScaleDenominator>8530.91833539914</ScaleDenominator>
        <TopLeftCorner>-20037508.342789244 20037508.342789244</TopLeftCorner>
        <TileWidth>256</TileWidth>
        <TileHeight>256</TileHeight>
        <MatrixWidth>65536</MatrixWidth>
        <MatrixHeight>65536</MatrixHeight>
      </TileMatrix>
      <TileMatrix>
        <ows:Identifier>17</ows:Identifier>
        <ScaleDenominator>4265.45916769957</ScaleDenominator>
        <TopLeftCorner>-20037508.342789244 20037508.342789244</TopLeftCorner>
        <TileWidth>256</TileWidth>
        <TileHeight>256</TileHeight>
        <MatrixWidth>131072</MatrixWidth>
        <MatrixHeight>131072</MatrixHeight>
      </TileMatrix>
      <TileMatrix>
        <ows:Identifier>18</ows:Identifier>
        <ScaleDenominator>2132.72958384978</ScaleDenominator>
        <TopLeftCorner>-20037508.342789244 20037508.342789244</TopLeftCorner>
        <TileWidth>256</TileWidth>
        <TileHeight>256</TileHeight>
        <MatrixWidth>262144</MatrixWidth>
        <MatrixHeight>262144</MatrixHeight>
      </TileMatrix>
    </TileMatrixSet>
    <TileMatrixSet>
      <ows:Identifier>WorldCRS84Quad</ows:Identifier>
      <ows:SupportedCRS>urn:ogc:def:crs:OGC:1.3:CRS84</ows:SupportedCRS>
      <TileMatrix>
        <ows:Identifier>0</ows:Identifier>
        <ScaleDenominator>279541132.014359</ScaleDenominator>
        <TopLeftCorner>-180 90</TopLeftCorner>
        <TileWidth>256</TileWidth>
        <TileHeight>256</TileHeight>
        <MatrixWidth>2</MatrixWidth>
        <MatrixHeight>1</MatrixHeight>
      </TileMatrix>
      <TileMatrix>
        <ows:Identifier>1</ows:Identifier>
        <ScaleDenominator>139770566.007179</ScaleDenominator>
        <TopLeftCorner>-180 90</TopLeftCorner>
        <TileWidth>256</TileWidth>
        <TileHeight>256</TileHeight>
        <MatrixWidth>4</MatrixWidth>
        <MatrixHeight>2</MatrixHeight>
      </TileMatrix>
      <TileMatrix>
        <ows:Identifier>2</ows:Identifier>
